BEGIN:VCALENDAR
VERSION:2.0
PRODID:-//Canton - ECPv6.15.20//NONSGML v1.0//EN
CALSCALE:GREGORIAN
METHOD:PUBLISH
X-ORIGINAL-URL:https://canton.reformationbrewery.com
X-WR-CALDESC:Events for Canton
REFRESH-INTERVAL;VALUE=DURATION:PT1H
X-Robots-Tag:noindex
X-PUBLISHED-TTL:PT1H
BEGIN:VTIMEZONE
TZID:America/New_York
BEGIN:DAYLIGHT
TZOFFSETFROM:-0500
TZOFFSETTO:-0400
TZNAME:EDT
DTSTART:20250309T070000
END:DAYLIGHT
BEGIN:STANDARD
TZOFFSETFROM:-0400
TZOFFSETTO:-0500
TZNAME:EST
DTSTART:20251102T060000
END:STANDARD
BEGIN:DAYLIGHT
TZOFFSETFROM:-0500
TZOFFSETTO:-0400
TZNAME:EDT
DTSTART:20260308T070000
END:DAYLIGHT
BEGIN:STANDARD
TZOFFSETFROM:-0400
TZOFFSETTO:-0500
TZNAME:EST
DTSTART:20261101T060000
END:STANDARD
BEGIN:DAYLIGHT
TZOFFSETFROM:-0500
TZOFFSETTO:-0400
TZNAME:EDT
DTSTART:20270314T070000
END:DAYLIGHT
BEGIN:STANDARD
TZOFFSETFROM:-0400
TZOFFSETTO:-0500
TZNAME:EST
DTSTART:20271107T060000
END:STANDARD
END:VTIMEZONE
BEGIN:VEVENT
DTSTART;TZID=America/New_York:20260424T200000
DTEND;TZID=America/New_York:20260424T220000
DTSTAMP:20260425T141252
CREATED:20240202T210154Z
LAST-MODIFIED:20240202T210154Z
UID:10004510-1777060800-1777068000@canton.reformationbrewery.com
SUMMARY:Karaoke Night
DESCRIPTION:It’s Karaoke night! Grab a pint and get on the mic with Lights Up Entertainment.
URL:https://canton.reformationbrewery.com/event/karaoke-night-2/2026-04-24/
LOCATION:Reformation Brewery (Canton)\, 225 Reformation Pkwy Ste 500\, Canton\, GA\, 30114\, United States
ATTACH;FMTTYPE=image/png:https://canton.reformationbrewery.com/wp-content/uploads/sites/3/2023/08/Monthly-Event-Headers.png
ORGANIZER;CN="Reformation Brewery":MAILTO:info@reformationbrewery.com
END:VEVENT
BEGIN:VEVENT
DTSTART;TZID=America/New_York:20260424T110000
DTEND;TZID=America/New_York:20260424T140000
DTSTAMP:20260425T141252
CREATED:20230706T213430Z
LAST-MODIFIED:20230706T213623Z
UID:10003427-1777028400-1777039200@canton.reformationbrewery.com
SUMMARY:Friday Flights
DESCRIPTION:Take a flight to Reformation\, and see where you end up! Stop by for 4oz pours of new or tried & tested favorites with friends. Just $8 in Canton & Woodstock until 2pm and all day in Smyrna.
URL:https://canton.reformationbrewery.com/event/friday-flights/2026-04-24/
LOCATION:Reformation Brewery (Canton)\, 225 Reformation Pkwy Ste 500\, Canton\, GA\, 30114\, United States
ATTACH;FMTTYPE=image/png:https://canton.reformationbrewery.com/wp-content/uploads/sites/3/2023/07/8-copy.png
ORGANIZER;CN="Reformation Brewery":MAILTO:info@reformationbrewery.com
END:VEVENT
BEGIN:VEVENT
DTSTART;TZID=America/New_York:20260423T190000
DTEND;TZID=America/New_York:20260423T220000
DTSTAMP:20260425T141252
CREATED:20240321T150023Z
LAST-MODIFIED:20240321T150023Z
UID:10005834-1776970800-1776981600@canton.reformationbrewery.com
SUMMARY:College Night at Reformation!
DESCRIPTION:It’s College Night at Reformation! Study up and sip into $15 pitchers (ask your beertender for options) Thursdays in Canton and Woodstock.
URL:https://canton.reformationbrewery.com/event/college-night-at-reformation/2026-04-23/
LOCATION:Reformation Brewery (Canton)\, 225 Reformation Pkwy Ste 500\, Canton\, GA\, 30114\, United States
CATEGORIES:Canton,Events
ATTACH;FMTTYPE=image/jpeg:https://canton.reformationbrewery.com/wp-content/uploads/sites/3/2024/03/430074470_383734344518817_3845774155418292574_n.jpg
ORGANIZER;CN="Reformation Brewery":MAILTO:info@reformationbrewery.com
END:VEVENT
BEGIN:VEVENT
DTSTART;TZID=America/New_York:20260423T190000
DTEND;TZID=America/New_York:20260423T210000
DTSTAMP:20260425T141252
CREATED:20260109T192128Z
LAST-MODIFIED:20260109T193858Z
UID:10007856-1776970800-1776978000@canton.reformationbrewery.com
SUMMARY:In Good Company: A Reformation Story Series
DESCRIPTION:Storytellers Wanted: \n\n– February 26th – The Heart\n– March 26th – The Laugh\n– April 23rd – The Mind\n\nLearn more: https://reformationbrewery.com/in-good-company/ \n\n\n\nIn Good Company is a Thursday night storytelling and ideas series hosted at Reformation Canton. Think of it like Story Hour but for Grownups. \nEach gathering features people sharing stories\, perspectives\, and experiences worth listening to — thoughtful\, funny\, human\, and accessible. Some nights lean reflective\, some joyful\, some curious — all pair well with beer and good company. \nThis is not an academic lecture series. It’s a space for grown-ups to gather\, listen\, and connect. \n📍 Reformation Brewery — Canton\n🕖 Thursdays at 7pm (once a month)\n🍺 Drinks available. Curiosity required. \n\nHere’s what to expect: \n\nLocation: Reformation Brewery — Canton\nDay & Time: Thursday evening\, 7:00pm start\nFormat: ~30 minutes to share your story or talk\, followed by a short guided conversation\n\nVisuals: Optional — we have projector capability if you’d like to use it
URL:https://canton.reformationbrewery.com/event/in-good-company-a-reformation-story-series/2026-04-23/
LOCATION:Reformation Brewery (Canton)\, 225 Reformation Pkwy Ste 500\, Canton\, GA\, 30114\, United States
ATTACH;FMTTYPE=image/png:https://canton.reformationbrewery.com/wp-content/uploads/sites/3/2026/01/2026-Copy-of-Event-Headers-Priority-Special-8-1.png
ORGANIZER;CN="Reformation Brewery":MAILTO:info@reformationbrewery.com
END:VEVENT
BEGIN:VEVENT
DTSTART;TZID=America/New_York:20260423T190000
DTEND;TZID=America/New_York:20260423T210000
DTSTAMP:20260425T141252
CREATED:20230106T195937Z
LAST-MODIFIED:20250306T214012Z
UID:10002374-1776970800-1776978000@canton.reformationbrewery.com
SUMMARY:Trivia Night at Reformation Canton
DESCRIPTION:It’s trivia night! Gather your dream team and come compete for first\, second\, and third-place prizes awarded each week with our friends from Light’s Up! Entertainment (now inside Reformation Brewery).
URL:https://canton.reformationbrewery.com/event/trivia/2026-04-23/
LOCATION:Reformation Brewery (Canton)\, 225 Reformation Pkwy Ste 500\, Canton\, GA\, 30114\, United States
ATTACH;FMTTYPE=image/png:https://canton.reformationbrewery.com/wp-content/uploads/sites/3/2023/01/Event-Headers-Priority-Special-27.png
ORGANIZER;CN="Reformation Brewery":MAILTO:info@reformationbrewery.com
END:VEVENT
BEGIN:VEVENT
DTSTART;TZID=America/New_York:20260423T150000
DTEND;TZID=America/New_York:20260423T220000
DTSTAMP:20260425T141252
CREATED:20230706T200822Z
LAST-MODIFIED:20250408T162541Z
UID:10003166-1776956400-1776981600@canton.reformationbrewery.com
SUMMARY:Thirsty Thursday
DESCRIPTION:Come thirsty – leave with a growler full! Get $5 off when you BYOG (bring your own growler). Price varies by style.
URL:https://canton.reformationbrewery.com/event/thirsty-thursday/2026-04-23/
LOCATION:Reformation Brewery (Canton)\, 225 Reformation Pkwy Ste 500\, Canton\, GA\, 30114\, United States
ATTACH;FMTTYPE=image/png:https://canton.reformationbrewery.com/wp-content/uploads/sites/3/2023/07/Weekly-Specials-2-3.png
ORGANIZER;CN="Reformation Brewery":MAILTO:info@reformationbrewery.com
END:VEVENT
BEGIN:VEVENT
DTSTART;TZID=America/New_York:20260422T190000
DTEND;TZID=America/New_York:20260422T190000
DTSTAMP:20260425T141252
CREATED:20260115T185509Z
LAST-MODIFIED:20260115T190320Z
UID:10007960-1776884400-1776884400@canton.reformationbrewery.com
SUMMARY:Latino Business Club
DESCRIPTION:Networking Latino en Georgia!\nConectados para Liderar. Acompáñanos:\nMiércoles – 8AM Reformation Brewery Woodstock\, 7PM Reformation Brewery Canton \nLatino Networking in Georgia!Connect to Lead. Join us:Wednesday – 8AM Reformation Brewery Woodstock\, 7PM Reformation Brewery Canton
URL:https://canton.reformationbrewery.com/event/latino-business-club/2026-04-22/
LOCATION:Reformation Brewery (Canton)\, 225 Reformation Pkwy Ste 500\, Canton\, GA\, 30114\, United States
CATEGORIES:Canton
ATTACH;FMTTYPE=image/png:https://canton.reformationbrewery.com/wp-content/uploads/sites/3/2026/01/Monthly-Event-Headers.png
END:VEVENT
BEGIN:VEVENT
DTSTART;TZID=America/New_York:20260422T080000
DTEND;TZID=America/New_York:20260422T090000
DTSTAMP:20260425T141252
CREATED:20230109T181304Z
LAST-MODIFIED:20251212T183426Z
UID:10002104-1776844800-1776848400@canton.reformationbrewery.com
SUMMARY:Canton Business Club
DESCRIPTION:Come join us for the Canton Business Club at Reformation Brewery’s Canton location! We’re thrilled to offer another way for local businesses and entrepreneurs to connect and be a positive force for good in Cherokee County. Mark your calendar and bring a friend!
URL:https://canton.reformationbrewery.com/event/canton-business-club-2/2026-04-22/
LOCATION:225 Reformation Pkwy Ste 500\, Canton\, GA\, 30114\, United States
ATTACH;FMTTYPE=image/png:https://canton.reformationbrewery.com/wp-content/uploads/sites/3/2023/01/Monthly-Event-Headers-2.png
ORGANIZER;CN="Reformation Brewery":MAILTO:info@reformationbrewery.com
END:VEVENT
BEGIN:VEVENT
DTSTART;TZID=America/New_York:20260421T183000
DTEND;TZID=America/New_York:20260421T210000
DTSTAMP:20260425T141252
CREATED:20250327T165233Z
LAST-MODIFIED:20260113T162414Z
UID:10007299-1776796200-1776805200@canton.reformationbrewery.com
SUMMARY:Line Dancing Lessons
DESCRIPTION:Reform your Tuesday rhythms with Line Dancing Lessons with Geneva at Reformation Canton! FREE lessons from 6:30-9:30pm on our indoor stage. All skill levels and ages welcome
URL:https://canton.reformationbrewery.com/event/line-dancing-lessons/2026-04-21/
LOCATION:Reformation Brewery (Canton)\, 225 Reformation Pkwy Ste 500\, Canton\, GA\, 30114\, United States
CATEGORIES:Canton
ATTACH;FMTTYPE=image/png:https://canton.reformationbrewery.com/wp-content/uploads/sites/3/2025/03/Event-Headers-Priority-Special-2.png
ORGANIZER;CN="Reformation Brewery":MAILTO:info@reformationbrewery.com
END:VEVENT
BEGIN:VEVENT
DTSTART;TZID=America/New_York:20260421T150000
DTEND;TZID=America/New_York:20260421T220000
DTSTAMP:20260425T141252
CREATED:20230706T195719Z
LAST-MODIFIED:20230706T195719Z
UID:10002906-1776783600-1776808800@canton.reformationbrewery.com
SUMMARY:Tuesday Drink Special
DESCRIPTION:Got $5 in your pocket? Let us pour you a beer! Stop by each week for $5 featured pints at your neighborhood Reformation.
URL:https://canton.reformationbrewery.com/event/tuesday-drink-special/2026-04-21/
LOCATION:Reformation Brewery (Canton)\, 225 Reformation Pkwy Ste 500\, Canton\, GA\, 30114\, United States
ATTACH;FMTTYPE=image/png:https://canton.reformationbrewery.com/wp-content/uploads/sites/3/2023/07/Tues-Specials-1.png
ORGANIZER;CN="Reformation Brewery":MAILTO:info@reformationbrewery.com
END:VEVENT
BEGIN:VEVENT
DTSTART;TZID=America/New_York:20260420T150000
DTEND;TZID=America/New_York:20260420T220000
DTSTAMP:20260425T141252
CREATED:20230706T170250Z
LAST-MODIFIED:20231114T172049Z
UID:10002646-1776697200-1776722400@canton.reformationbrewery.com
SUMMARY:Monday Specials
DESCRIPTION:Case of the Mondays? Stop by our Canton or Woodstock taproom and let us pour you a pick me up! \n\n$6 Frozen Cocktails\n& HALF price JUDEs
URL:https://canton.reformationbrewery.com/event/monday-specials/2026-04-20/
LOCATION:Reformation Brewery (Canton)\, 225 Reformation Pkwy Ste 500\, Canton\, GA\, 30114\, United States
ATTACH;FMTTYPE=image/png:https://canton.reformationbrewery.com/wp-content/uploads/sites/3/2023/07/2.png
ORGANIZER;CN="Reformation Brewery":MAILTO:info@reformationbrewery.com
END:VEVENT
BEGIN:VEVENT
DTSTART;TZID=America/New_York:20260419T110000
DTEND;TZID=America/New_York:20260419T210000
DTSTAMP:20260425T141252
CREATED:20241010T193313Z
LAST-MODIFIED:20241010T193334Z
UID:10006787-1776596400-1776632400@canton.reformationbrewery.com
SUMMARY:Service Sundays
DESCRIPTION:Need a break from tending bar? Make Reformation your home away from home & kickoff your weekend with 25% OFF for Bar Staff & Beertenders on Sundays (all taprooms).
URL:https://canton.reformationbrewery.com/event/service-sundays-2/2026-04-19/
LOCATION:Reformation Brewery (Canton)\, 225 Reformation Pkwy Ste 500\, Canton\, GA\, 30114\, United States
ATTACH;FMTTYPE=image/png:https://canton.reformationbrewery.com/wp-content/uploads/sites/3/2023/07/Weekly-Specials-2-1.png
ORGANIZER;CN="Reformation Brewery":MAILTO:info@reformationbrewery.com
END:VEVENT
BEGIN:VEVENT
DTSTART;TZID=America/New_York:20260418T120000
DTEND;TZID=America/New_York:20260418T170000
DTSTAMP:20260425T141252
CREATED:20260327T182314Z
LAST-MODIFIED:20260327T182314Z
UID:10008513-1776513600-1776531600@canton.reformationbrewery.com
SUMMARY:Crawfish Boil
DESCRIPTION:Suck the heads\, pinch the tails. It’s a Crawfish Boil at Reformation Canton (ifykyk). Come get messy with it. Your $35 ticket includes all the good stuff – 1st drink of choice\, 2 pounds of crawfish\, plus potatoes\, corn\, & sausage. Grab your tickets ahead at reformationstore.com.
URL:https://canton.reformationbrewery.com/event/crawfish-boil/
LOCATION:Reformation Brewery (Canton)\, 225 Reformation Pkwy Ste 500\, Canton\, GA\, 30114\, United States
CATEGORIES:Canton,Food,Events
ATTACH;FMTTYPE=image/png:https://canton.reformationbrewery.com/wp-content/uploads/sites/3/2026/03/2026-Copy-of-Event-Headers-Priority-Special-18.png
ORGANIZER;CN="Reformation Brewery":MAILTO:info@reformationbrewery.com
END:VEVENT
BEGIN:VEVENT
DTSTART;TZID=America/New_York:20260418T110000
DTEND;TZID=America/New_York:20260418T230000
DTSTAMP:20260425T141252
CREATED:20240314T155511Z
LAST-MODIFIED:20240314T155511Z
UID:10003948-1776510000-1776553200@canton.reformationbrewery.com
SUMMARY:Saturday Specials
DESCRIPTION:$6 Judemosas all day – every taproom
URL:https://canton.reformationbrewery.com/event/saturday-specials-2/2026-04-18/
LOCATION:Reformation Brewery (Canton)\, 225 Reformation Pkwy Ste 500\, Canton\, GA\, 30114\, United States
ATTACH;FMTTYPE=image/png:https://canton.reformationbrewery.com/wp-content/uploads/sites/3/2023/07/Weekly-Specials-2-2.png
ORGANIZER;CN="Reformation Brewery":MAILTO:info@reformationbrewery.com
END:VEVENT
BEGIN:VEVENT
DTSTART;TZID=America/New_York:20260417T110000
DTEND;TZID=America/New_York:20260417T140000
DTSTAMP:20260425T141252
CREATED:20230706T213430Z
LAST-MODIFIED:20230706T213623Z
UID:10003426-1776423600-1776434400@canton.reformationbrewery.com
SUMMARY:Friday Flights
DESCRIPTION:Take a flight to Reformation\, and see where you end up! Stop by for 4oz pours of new or tried & tested favorites with friends. Just $8 in Canton & Woodstock until 2pm and all day in Smyrna.
URL:https://canton.reformationbrewery.com/event/friday-flights/2026-04-17/
LOCATION:Reformation Brewery (Canton)\, 225 Reformation Pkwy Ste 500\, Canton\, GA\, 30114\, United States
ATTACH;FMTTYPE=image/png:https://canton.reformationbrewery.com/wp-content/uploads/sites/3/2023/07/8-copy.png
ORGANIZER;CN="Reformation Brewery":MAILTO:info@reformationbrewery.com
END:VEVENT
BEGIN:VEVENT
DTSTART;TZID=America/New_York:20260416T190000
DTEND;TZID=America/New_York:20260416T220000
DTSTAMP:20260425T141252
CREATED:20240321T150023Z
LAST-MODIFIED:20240321T150023Z
UID:10005833-1776366000-1776376800@canton.reformationbrewery.com
SUMMARY:College Night at Reformation!
DESCRIPTION:It’s College Night at Reformation! Study up and sip into $15 pitchers (ask your beertender for options) Thursdays in Canton and Woodstock.
URL:https://canton.reformationbrewery.com/event/college-night-at-reformation/2026-04-16/
LOCATION:Reformation Brewery (Canton)\, 225 Reformation Pkwy Ste 500\, Canton\, GA\, 30114\, United States
CATEGORIES:Canton,Events
ATTACH;FMTTYPE=image/jpeg:https://canton.reformationbrewery.com/wp-content/uploads/sites/3/2024/03/430074470_383734344518817_3845774155418292574_n.jpg
ORGANIZER;CN="Reformation Brewery":MAILTO:info@reformationbrewery.com
END:VEVENT
BEGIN:VEVENT
DTSTART;TZID=America/New_York:20260416T190000
DTEND;TZID=America/New_York:20260416T210000
DTSTAMP:20260425T141252
CREATED:20230106T195937Z
LAST-MODIFIED:20250306T214012Z
UID:10002373-1776366000-1776373200@canton.reformationbrewery.com
SUMMARY:Trivia Night at Reformation Canton
DESCRIPTION:It’s trivia night! Gather your dream team and come compete for first\, second\, and third-place prizes awarded each week with our friends from Light’s Up! Entertainment (now inside Reformation Brewery).
URL:https://canton.reformationbrewery.com/event/trivia/2026-04-16/
LOCATION:Reformation Brewery (Canton)\, 225 Reformation Pkwy Ste 500\, Canton\, GA\, 30114\, United States
ATTACH;FMTTYPE=image/png:https://canton.reformationbrewery.com/wp-content/uploads/sites/3/2023/01/Event-Headers-Priority-Special-27.png
ORGANIZER;CN="Reformation Brewery":MAILTO:info@reformationbrewery.com
END:VEVENT
BEGIN:VEVENT
DTSTART;TZID=America/New_York:20260416T150000
DTEND;TZID=America/New_York:20260416T220000
DTSTAMP:20260425T141252
CREATED:20230706T200822Z
LAST-MODIFIED:20250408T162541Z
UID:10003165-1776351600-1776376800@canton.reformationbrewery.com
SUMMARY:Thirsty Thursday
DESCRIPTION:Come thirsty – leave with a growler full! Get $5 off when you BYOG (bring your own growler). Price varies by style.
URL:https://canton.reformationbrewery.com/event/thirsty-thursday/2026-04-16/
LOCATION:Reformation Brewery (Canton)\, 225 Reformation Pkwy Ste 500\, Canton\, GA\, 30114\, United States
ATTACH;FMTTYPE=image/png:https://canton.reformationbrewery.com/wp-content/uploads/sites/3/2023/07/Weekly-Specials-2-3.png
ORGANIZER;CN="Reformation Brewery":MAILTO:info@reformationbrewery.com
END:VEVENT
BEGIN:VEVENT
DTSTART;TZID=America/New_York:20260415T190000
DTEND;TZID=America/New_York:20260415T190000
DTSTAMP:20260425T141252
CREATED:20260115T185509Z
LAST-MODIFIED:20260115T190320Z
UID:10007959-1776279600-1776279600@canton.reformationbrewery.com
SUMMARY:Latino Business Club
DESCRIPTION:Networking Latino en Georgia!\nConectados para Liderar. Acompáñanos:\nMiércoles – 8AM Reformation Brewery Woodstock\, 7PM Reformation Brewery Canton \nLatino Networking in Georgia!Connect to Lead. Join us:Wednesday – 8AM Reformation Brewery Woodstock\, 7PM Reformation Brewery Canton
URL:https://canton.reformationbrewery.com/event/latino-business-club/2026-04-15/
LOCATION:Reformation Brewery (Canton)\, 225 Reformation Pkwy Ste 500\, Canton\, GA\, 30114\, United States
CATEGORIES:Canton
ATTACH;FMTTYPE=image/png:https://canton.reformationbrewery.com/wp-content/uploads/sites/3/2026/01/Monthly-Event-Headers.png
END:VEVENT
BEGIN:VEVENT
DTSTART;TZID=America/New_York:20260415T080000
DTEND;TZID=America/New_York:20260415T090000
DTSTAMP:20260425T141252
CREATED:20230109T181304Z
LAST-MODIFIED:20251212T183426Z
UID:10002103-1776240000-1776243600@canton.reformationbrewery.com
SUMMARY:Canton Business Club
DESCRIPTION:Come join us for the Canton Business Club at Reformation Brewery’s Canton location! We’re thrilled to offer another way for local businesses and entrepreneurs to connect and be a positive force for good in Cherokee County. Mark your calendar and bring a friend!
URL:https://canton.reformationbrewery.com/event/canton-business-club-2/2026-04-15/
LOCATION:225 Reformation Pkwy Ste 500\, Canton\, GA\, 30114\, United States
ATTACH;FMTTYPE=image/png:https://canton.reformationbrewery.com/wp-content/uploads/sites/3/2023/01/Monthly-Event-Headers-2.png
ORGANIZER;CN="Reformation Brewery":MAILTO:info@reformationbrewery.com
END:VEVENT
BEGIN:VEVENT
DTSTART;TZID=America/New_York:20260414T183000
DTEND;TZID=America/New_York:20260414T210000
DTSTAMP:20260425T141252
CREATED:20250327T165233Z
LAST-MODIFIED:20260113T162414Z
UID:10007298-1776191400-1776200400@canton.reformationbrewery.com
SUMMARY:Line Dancing Lessons
DESCRIPTION:Reform your Tuesday rhythms with Line Dancing Lessons with Geneva at Reformation Canton! FREE lessons from 6:30-9:30pm on our indoor stage. All skill levels and ages welcome
URL:https://canton.reformationbrewery.com/event/line-dancing-lessons/2026-04-14/
LOCATION:Reformation Brewery (Canton)\, 225 Reformation Pkwy Ste 500\, Canton\, GA\, 30114\, United States
CATEGORIES:Canton
ATTACH;FMTTYPE=image/png:https://canton.reformationbrewery.com/wp-content/uploads/sites/3/2025/03/Event-Headers-Priority-Special-2.png
ORGANIZER;CN="Reformation Brewery":MAILTO:info@reformationbrewery.com
END:VEVENT
BEGIN:VEVENT
DTSTART;TZID=America/New_York:20260414T150000
DTEND;TZID=America/New_York:20260414T220000
DTSTAMP:20260425T141252
CREATED:20230706T195719Z
LAST-MODIFIED:20230706T195719Z
UID:10002905-1776178800-1776204000@canton.reformationbrewery.com
SUMMARY:Tuesday Drink Special
DESCRIPTION:Got $5 in your pocket? Let us pour you a beer! Stop by each week for $5 featured pints at your neighborhood Reformation.
URL:https://canton.reformationbrewery.com/event/tuesday-drink-special/2026-04-14/
LOCATION:Reformation Brewery (Canton)\, 225 Reformation Pkwy Ste 500\, Canton\, GA\, 30114\, United States
ATTACH;FMTTYPE=image/png:https://canton.reformationbrewery.com/wp-content/uploads/sites/3/2023/07/Tues-Specials-1.png
ORGANIZER;CN="Reformation Brewery":MAILTO:info@reformationbrewery.com
END:VEVENT
BEGIN:VEVENT
DTSTART;TZID=America/New_York:20260413T150000
DTEND;TZID=America/New_York:20260413T220000
DTSTAMP:20260425T141252
CREATED:20230706T170250Z
LAST-MODIFIED:20231114T172049Z
UID:10002645-1776092400-1776117600@canton.reformationbrewery.com
SUMMARY:Monday Specials
DESCRIPTION:Case of the Mondays? Stop by our Canton or Woodstock taproom and let us pour you a pick me up! \n\n$6 Frozen Cocktails\n& HALF price JUDEs
URL:https://canton.reformationbrewery.com/event/monday-specials/2026-04-13/
LOCATION:Reformation Brewery (Canton)\, 225 Reformation Pkwy Ste 500\, Canton\, GA\, 30114\, United States
ATTACH;FMTTYPE=image/png:https://canton.reformationbrewery.com/wp-content/uploads/sites/3/2023/07/2.png
ORGANIZER;CN="Reformation Brewery":MAILTO:info@reformationbrewery.com
END:VEVENT
BEGIN:VEVENT
DTSTART;TZID=America/New_York:20260412T110000
DTEND;TZID=America/New_York:20260412T210000
DTSTAMP:20260425T141252
CREATED:20241010T193313Z
LAST-MODIFIED:20241010T193334Z
UID:10006786-1775991600-1776027600@canton.reformationbrewery.com
SUMMARY:Service Sundays
DESCRIPTION:Need a break from tending bar? Make Reformation your home away from home & kickoff your weekend with 25% OFF for Bar Staff & Beertenders on Sundays (all taprooms).
URL:https://canton.reformationbrewery.com/event/service-sundays-2/2026-04-12/
LOCATION:Reformation Brewery (Canton)\, 225 Reformation Pkwy Ste 500\, Canton\, GA\, 30114\, United States
ATTACH;FMTTYPE=image/png:https://canton.reformationbrewery.com/wp-content/uploads/sites/3/2023/07/Weekly-Specials-2-1.png
ORGANIZER;CN="Reformation Brewery":MAILTO:info@reformationbrewery.com
END:VEVENT
BEGIN:VEVENT
DTSTART;TZID=America/New_York:20260411T110000
DTEND;TZID=America/New_York:20260411T230000
DTSTAMP:20260425T141252
CREATED:20240314T155511Z
LAST-MODIFIED:20240314T155511Z
UID:10003947-1775905200-1775948400@canton.reformationbrewery.com
SUMMARY:Saturday Specials
DESCRIPTION:$6 Judemosas all day – every taproom
URL:https://canton.reformationbrewery.com/event/saturday-specials-2/2026-04-11/
LOCATION:Reformation Brewery (Canton)\, 225 Reformation Pkwy Ste 500\, Canton\, GA\, 30114\, United States
ATTACH;FMTTYPE=image/png:https://canton.reformationbrewery.com/wp-content/uploads/sites/3/2023/07/Weekly-Specials-2-2.png
ORGANIZER;CN="Reformation Brewery":MAILTO:info@reformationbrewery.com
END:VEVENT
BEGIN:VEVENT
DTSTART;TZID=America/New_York:20260410T190000
DTEND;TZID=America/New_York:20260410T220000
DTSTAMP:20260425T141252
CREATED:20260107T214022Z
LAST-MODIFIED:20260424T163952Z
UID:10007849-1775847600-1775858400@canton.reformationbrewery.com
SUMMARY:Southern Honor Wrestling
DESCRIPTION:Southern Honor Wrestling is coming to Reformation Canton for a multi-date\, monthly live pro wrestling series. \nJoin us Friday nights on February 6\, March 6\, April 10\, May 15\, and June 5\, 2026\, as Southern Honor Wrestling brings high-energy\, action-packed matches to our space. Doors open ahead of bell time\, with matches starting at 7:00 PM. \nEach event features independent professional wrestlers delivering fast-paced\, hard-hitting bouts that bring the excitement up close. Expect an electric atmosphere\, a passionate crowd\, and a front-row seat to the drama and athleticism of live pro wrestling. \nWhether you’re a longtime fan or brand new to wrestling\, this recurring series is the perfect way to spend a Friday night—grab a drink\, cheer loud\, and experience the action live. \nFollow @southernhonorwrestling for match cards and updates. \n@southernhonorwrestling @destinationcherokeega @themillonetowah @explorecantonga @onlyincantonga
URL:https://canton.reformationbrewery.com/event/southern-honor-wrestling-2/2026-04-10/
LOCATION:Reformation Brewery (Canton)\, 225 Reformation Pkwy Ste 500\, Canton\, GA\, 30114\, United States
CATEGORIES:Canton,Events,Sports
ATTACH;FMTTYPE=image/jpeg:https://canton.reformationbrewery.com/wp-content/uploads/sites/3/2026/01/Southern-Honor-Wrestling-Canton-Reformation.jpg
END:VEVENT
BEGIN:VEVENT
DTSTART;TZID=America/New_York:20260410T110000
DTEND;TZID=America/New_York:20260410T140000
DTSTAMP:20260425T141252
CREATED:20230706T213430Z
LAST-MODIFIED:20230706T213623Z
UID:10003425-1775818800-1775829600@canton.reformationbrewery.com
SUMMARY:Friday Flights
DESCRIPTION:Take a flight to Reformation\, and see where you end up! Stop by for 4oz pours of new or tried & tested favorites with friends. Just $8 in Canton & Woodstock until 2pm and all day in Smyrna.
URL:https://canton.reformationbrewery.com/event/friday-flights/2026-04-10/
LOCATION:Reformation Brewery (Canton)\, 225 Reformation Pkwy Ste 500\, Canton\, GA\, 30114\, United States
ATTACH;FMTTYPE=image/png:https://canton.reformationbrewery.com/wp-content/uploads/sites/3/2023/07/8-copy.png
ORGANIZER;CN="Reformation Brewery":MAILTO:info@reformationbrewery.com
END:VEVENT
BEGIN:VEVENT
DTSTART;TZID=America/New_York:20260409T190000
DTEND;TZID=America/New_York:20260409T220000
DTSTAMP:20260425T141252
CREATED:20240321T150023Z
LAST-MODIFIED:20240321T150023Z
UID:10005832-1775761200-1775772000@canton.reformationbrewery.com
SUMMARY:College Night at Reformation!
DESCRIPTION:It’s College Night at Reformation! Study up and sip into $15 pitchers (ask your beertender for options) Thursdays in Canton and Woodstock.
URL:https://canton.reformationbrewery.com/event/college-night-at-reformation/2026-04-09/
LOCATION:Reformation Brewery (Canton)\, 225 Reformation Pkwy Ste 500\, Canton\, GA\, 30114\, United States
CATEGORIES:Canton,Events
ATTACH;FMTTYPE=image/jpeg:https://canton.reformationbrewery.com/wp-content/uploads/sites/3/2024/03/430074470_383734344518817_3845774155418292574_n.jpg
ORGANIZER;CN="Reformation Brewery":MAILTO:info@reformationbrewery.com
END:VEVENT
BEGIN:VEVENT
DTSTART;TZID=America/New_York:20260409T190000
DTEND;TZID=America/New_York:20260409T210000
DTSTAMP:20260425T141252
CREATED:20230106T195937Z
LAST-MODIFIED:20250306T214012Z
UID:10002372-1775761200-1775768400@canton.reformationbrewery.com
SUMMARY:Trivia Night at Reformation Canton
DESCRIPTION:It’s trivia night! Gather your dream team and come compete for first\, second\, and third-place prizes awarded each week with our friends from Light’s Up! Entertainment (now inside Reformation Brewery).
URL:https://canton.reformationbrewery.com/event/trivia/2026-04-09/
LOCATION:Reformation Brewery (Canton)\, 225 Reformation Pkwy Ste 500\, Canton\, GA\, 30114\, United States
ATTACH;FMTTYPE=image/png:https://canton.reformationbrewery.com/wp-content/uploads/sites/3/2023/01/Event-Headers-Priority-Special-27.png
ORGANIZER;CN="Reformation Brewery":MAILTO:info@reformationbrewery.com
END:VEVENT
BEGIN:VEVENT
DTSTART;TZID=America/New_York:20260409T150000
DTEND;TZID=America/New_York:20260409T220000
DTSTAMP:20260425T141252
CREATED:20230706T200822Z
LAST-MODIFIED:20250408T162541Z
UID:10003164-1775746800-1775772000@canton.reformationbrewery.com
SUMMARY:Thirsty Thursday
DESCRIPTION:Come thirsty – leave with a growler full! Get $5 off when you BYOG (bring your own growler). Price varies by style.
URL:https://canton.reformationbrewery.com/event/thirsty-thursday/2026-04-09/
LOCATION:Reformation Brewery (Canton)\, 225 Reformation Pkwy Ste 500\, Canton\, GA\, 30114\, United States
ATTACH;FMTTYPE=image/png:https://canton.reformationbrewery.com/wp-content/uploads/sites/3/2023/07/Weekly-Specials-2-3.png
ORGANIZER;CN="Reformation Brewery":MAILTO:info@reformationbrewery.com
END:VEVENT
END:VCALENDAR